BEGIN:VCALENDAR
VERSION:2.0
PRODID:-//National Energy Education Development Project - ECPv6.15.19//NONSGML v1.0//EN
CALSCALE:GREGORIAN
METHOD:PUBLISH
X-WR-CALNAME:National Energy Education Development Project
X-ORIGINAL-URL:https://www.need.org
X-WR-CALDESC:Events for National Energy Education Development Project
REFRESH-INTERVAL;VALUE=DURATION:PT1H
X-Robots-Tag:noindex
X-PUBLISHED-TTL:PT1H
BEGIN:VTIMEZONE
TZID:America/New_York
BEGIN:DAYLIGHT
TZOFFSETFROM:-0500
TZOFFSETTO:-0400
TZNAME:EDT
DTSTART:20250309T070000
END:DAYLIGHT
BEGIN:STANDARD
TZOFFSETFROM:-0400
TZOFFSETTO:-0500
TZNAME:EST
DTSTART:20251102T060000
END:STANDARD
BEGIN:DAYLIGHT
TZOFFSETFROM:-0500
TZOFFSETTO:-0400
TZNAME:EDT
DTSTART:20260308T070000
END:DAYLIGHT
BEGIN:STANDARD
TZOFFSETFROM:-0400
TZOFFSETTO:-0500
TZNAME:EST
DTSTART:20261101T060000
END:STANDARD
BEGIN:DAYLIGHT
TZOFFSETFROM:-0500
TZOFFSETTO:-0400
TZNAME:EDT
DTSTART:20270314T070000
END:DAYLIGHT
BEGIN:STANDARD
TZOFFSETFROM:-0400
TZOFFSETTO:-0500
TZNAME:EST
DTSTART:20271107T060000
END:STANDARD
END:VTIMEZONE
BEGIN:VEVENT
DTSTART;VALUE=DATE:20260415
DTEND;VALUE=DATE:20260419
DTSTAMP:20260419T114525
CREATED:20260318T183020Z
LAST-MODIFIED:20260318T183907Z
UID:10000494-1776211200-1776556799@www.need.org
SUMMARY:NEED at NSTA National Conference in Anaheim
DESCRIPTION:NEED is exhibiting and presenting 3 hands-on sessions at the 2026 NSTA Anaheim Conference happening April 15-18th.\nStop by the NEED booth #1377 and join us for a session!\nHands-On with the Science of Energy: Forms\, Flows & Fun\nDate: Thursday\, April 16\nTime: 8:00 AM\nRoom: 155\, North Building\n\nMaking Waves and Catching Wind: Offshore Wind & Marine Hydrokinetics in STEM\nDate: Thursday\, April 16\nTime: 2:20 PM\nRoom: 260 B\, North Building\n\nWired for Learning: Understanding Circuits and Microgrids\nDate: Saturday\, April 18\nTime: 11:40 AM\nRoom: 258 A\, North Building\n\n\n\nSchedule at a glance:  https://www.nsta.org/sites/default/files/NSTA_NationalConf_ANA26_schedule_72225.pdf\n\nConference website: https://www.nsta.org/national-conference-science-education-anaheim-2026 
URL:https://www.need.org/event/need-at-nsta-national-conference-in-anaheim/
LOCATION:Anaheim Convention Center\, 800 W Katella Ave\, Anaheim\, CA\, 92802\, United States
CATEGORIES:Conference,Educators
ATTACH;FMTTYPE=image/jpeg:https://www.need.org/wp-content/uploads/2026/03/NEED-NSTA-Denver-2024.jpg
END:VEVENT
END:VCALENDAR